Workbook

Sheet 要項
A1: DRAGON CUP | AH1: DRAGON CUP
A4: 第20回 龍杯空手道錬成大会開催ご案内 | AH4: 第20回 龍杯空手道錬成大会種目別参加申込用紙（資料２）
C7: 1 | D7: 龍杯空手道錬成大会開催ご案内資料 | AI7: 団体名 | AL7: 【 | AT7: 】
C8: 2 | D8: 大会実施要項 | AI8: 代表者名 | AL8: 【 | AT8: 】 | AW8: 連絡先【 | BG8: 】
C9: 3 | D9: 申込用紙（資料 １）種目別参加申込用紙（男子 個人組手・団体組手）
C10: 4 | D10: 申込用紙（資料 ２）種目別参加申込用紙（女子 個人組手・団体組手） | AJ10: 女子個人組手
C11: 5 | D11: 申込用紙（資料 ３）審判員協力要請・弁当注文・納付金額 | AJ11: 小６・中１年生女子 | AZ11: 中２・３年生女子
AJ12: No | AM12: 名前 | AU12: 〇 | AZ12: No | BC12: 名前 | BK12: 〇
A13: 上記資料で返送していただくもの | AJ13: 1 | AZ13: 1
C15: 3 | D15: 申込用紙（資料 １）種目別参加申込用紙（男子 個人組手・団体組手） | AJ15: 2 | AZ15: 2
C16: 4 | D16: 申込用紙（資料 ２）種目別参加申込用紙（女子 個人組手・団体組手）
C17: 5 | D17: 申込用紙（資料 ３）審判員協力要請・弁当注文・納付金額 | AJ17: 3 | AZ17: 3
C18: ★ | D18: 各団体で申込まれた弁当代（選手・保護者）は、大会参加費と併せて振込方お願いします。
D19: 振込先 | I19: 郵便局 | AJ19: 4 | AZ19: 4
I21: 記 号 | M21: 17240 | AJ21: 5 | AZ21: 5
I23: 番 号 | M23: 3573531 | AJ23: 6 | AZ23: 6
I25: 振込先 | M25: 藤澤芳美 | AJ25: 7 | AZ25: 7
A27: 提 出 期 限 | AJ27: 8 | AZ27: 8
D29: 令和8年11月15日（日) 必着 | S29: FAX | V29: ０９７－５２１－５６３２ | AJ29: 9 | AZ29: 9
D31: 大会に関する問い合わせ先 | O31: 藤澤裕治 | T31: TEL | W31: ０９０－３６０７－５１３２ | AJ31: 10 | AZ31: 10
AI34: 実力のある上位２名の選手には〇をして下さい。組合せの際に調整します。
C35: ※エクセルの大会データが必要な方はidsports@oct-net.ne.jpまで件名に龍杯申し込み
D36: データ希望にして道場名と責任者の方の名前を打ち込み送信してください。 | AJ36: 女子団体組手（Ａチ－ム) | AZ36: 女子団体組手（Ｂチ－ム)
AJ38: No | AM38: 名前 | AZ38: No | BC38: 名前
AJ39: 1 | AZ39: 1
AJ41: 2 | AZ41: 2
AJ43: 3 | AZ43: 3
AJ45: 補欠１ | AZ45: 補欠１
AJ47: 補欠２ | AZ47: 補欠２
AI49: 補欠は２名でお願いします。
AI50: ※２チーム以上参加する場合は、お手数ですがコピーしてください。
A51: DRAGON CUP
AI52: 申込み用紙 （資料３）
AI53: 以下の内容についてご記入の上、大会種目別参加申込用紙（資料１・２）と併せて郵送にてご
A54: 第20回 龍杯空手道錬成大会実施要項 | AI54: 返送下さい。
AI55: なお、該当しない場合でも意思確認の為、（該当無し）と記入されご返送頂きたく存じます。
B56: 1 | C56: 日時 | G56: 令和8年12月20日（日）9時開会（体育館会館 8時00分） | AI56: ご協力よろしくお願い致します。
B57: 2 | C57: 会場 | G57: つぶらなカボスアリーナ（杵築文化体育館） | Y57: TEL 098-63-5558
G58: 〒873－0014 大分県杵築市本庄下本庄2005 | AI58: 団体名
B59: 3 | C59: 審判会議 | G59: ８時４５分 体育館 ミーティング室
...

Sheet 荒賀セミナー要項
A1: 龍 杯 記 念 特 別 セ ミ ナ ー
A2: （講師 荒賀 龍太郎先生）
A3: さて、皆様におかれましては毎回のドラゴンカップ龍杯へのご参加をいただきまことにあり がとうございます。 早いもので龍杯を開催して、今年で20回目を迎えます。当初は大在樹道館と柳ヶ浦高校が 中心となり、大分県剛柔会や大分県空手道連盟のご協力を経て開催されました。その経過も ありましたが、この度、柳ヶ浦高校の経営者が変わられて、空手道部が廃部の運びとなり、ド ラゴンカップ柳杯の名称も龍杯と改めます。 20回を迎えるにあたり、大会前日に計画いたしましたところ、なんとオリンピックメダリストの荒 賀龍太郎先生を特別セミナーの講師としてお迎えできる事となり、ドラゴンカップの大会と合 わせて前日の特別組手セミナーのご案内を申し上げます。
A8: 期日 | C8: 2026年 12月 19日 13時 ～ 17時予定 セミナー
C9: 12月 20日 9時 ～ 16時予定 本大会
A10: 場所 | C10: つぶらなカボスアリーナ（杵築文化体育館）
A11: 参加費 | C11: 19日セミナーのみの参加者は \4,000
C12: 20日の龍杯と併せて参加者は \3,000 + 大会参加費
A13: 参加対象者 | C13: 基本は小学3年以上の組手選手と中学生です。
C14: 高校生は龍杯参加チームに関係ある高校生とさせていただきます。
A15: これから新しくなる大会、ドラゴンカップ龍杯にご期待ください。
F16: ドラゴンカップ実行委員長
F17: 藤澤 裕治

Sheet 記録データ
A1: 団体名 | C1: =要項!AO58 -> 0
A3: 男子個人組手
A4: 小６・中１年生男子 | E4: 中２・３年生男子
A5: ＮＯ | B5: 名前 | C5: シード希望者 | E5: ＮＯ | F5: 名前 | G5: シード希望者
A6: 1 | B6: =要項!F113 -> 0 | E6: 1 | F6: =要項!V113 -> 0
A7: 2 | B7: =要項!F115 -> 0 | E7: 2 | F7: =要項!V115 -> 0
A8: 3 | B8: =要項!F117 -> 0 | E8: 3 | F8: =要項!V117 -> 0
A9: 4 | B9: =要項!F119 -> 0 | E9: 4 | F9: =要項!V119 -> 0
A10: 5 | B10: =要項!F121 -> 0 | E10: 5 | F10: =要項!V121 -> 0
A11: 6 | B11: =要項!F123 -> 0 | E11: 6 | F11: =要項!V123 -> 0
A12: 7 | B12: =要項!F125 -> 0 | E12: 7 | F12: =要項!V125 -> 0
A13: 8 | B13: =要項!F127 -> 0 | E13: 8 | F13: =要項!V127 -> 0
A14: 9 | B14: =要項!F129 -> 0 | E14: 9 | F14: =要項!V129 -> 0
A15: 10 | B15: =要項!F131 -> 0 | E15: 10 | F15: =要項!V131 -> 0
A18: 男子団体組手
A19: Ａチーム | E19: Bチーム
A20: ＮＯ | B20: 名前 | E20: ＮＯ | F20: 名前
A21: 1 | B21: =要項!F139 -> 0 | E21: 1 | F21: =要項!V139 -> 0
A22: 2 | B22: =要項!F141 -> 0 | E22: 2 | F22: =要項!V141 -> 0
A23: 3 | B23: =要項!F143 -> 0 | E23: 3 | F23: =要項!V143 -> 0
A24: 補欠１ | B24: =要項!F145 -> 0 | E24: 補欠１ | F24: =要項!V145 -> 0
A25: 補欠２ | B25: =要項!F147 -> 0 | E25: 補欠２ | F25: =要項!V147 -> 0
A28: 女子個人組手
A29: 小６・中１年女子 | E29: 中２・３年生女子
A30: ＮＯ | B30: 名前 | C30: シード希望者 | E30: ＮＯ | F30: 名前 | G30: シード希望者
A31: 1 | B31: =要項!AM13 -> 0 | E31: 1 | F31: =要項!BD13 -> 0
A32: 2 | B32: =要項!AM15 -> 0 | E32: 2 | F32: =要項!BD15 -> 0
A33: 3 | B33: =要項!AM17 -> 0 | E33: 3 | F33: =要項!BD17 -> 0
A34: 4 | B34: =要項!AM19 -> 0 | E34: 4 | F34: =要項!BD19 -> 0
A35: 5 | B35: =要項!AM21 -> 0 | E35: 5 | F35: =要項!BD21 -> 0
A36: 6 | B36: =要項!AM23 -> 0 | E36: 6 | F36: =要項!BD23 -> 0
A37: 7 | B37: =要項!AM25 -> 0 | E37: 7 | F37: =要項!BD25 -> 0
A38: 8 | B38: =要項!AM27 -> 0 | E38: 8 | F38: =要項!BD27 -> 0
A39: 9 | B39: =要項!AM29 -> 0 | E39: 9 | F39: =要項!BD29 -> 0
A40: 10 | B40: =要項!AM31 -> 0 | E40: 10 | F40: =要項!BD31 -> 0
A43: 女子団体組手
A44: Ａチーム | E44: Bチーム
A45: ＮＯ | B45: 名前 | E45: ＮＯ | F45: 名前
A46: 1 | B46: =要項!AM39 -> 0 | E46: 1 | F46: =要項!BC39 -> 0
A47: 2 | B47: =要項!AM41 -> 0 | E47: 2 | F47: =要項!BC41 -> 0
...
